BEGIN:VCALENDAR
VERSION:2.0
PRODID:-//jEvents 2.0 for Joomla//EN
CALSCALE:GREGORIAN
METHOD:PUBLISH
BEGIN:VTIMEZONE
TZID:Europe/Berlin
END:VTIMEZONE
BEGIN:VEVENT
UID:765d7681ff886a4daa498a503d0a949e
CATEGORIES:Sozialverband
CREATED:20260410T183522
SUMMARY:Frauentreff
LOCATION:Begegnungsstätte\, Berliner Platz 1
DESCRIPTION:
CONTACT:Antje Hüttmann
DTSTAMP:20260424T133842
DTSTART;TZID=Europe/Berlin:20290111T130000
DTEND;TZID=Europe/Berlin:20290111T180000
SEQUENCE:0
TRANSP:OPAQUE
END:VEVENT
END:VCALENDAR